BEGIN:VCALENDAR
PRODID:-//eluceo/ical//2.0/EN
VERSION:2.0
CALSCALE:GREGORIAN
BEGIN:VEVENT
UID:c95e74942ccd45a7bc3ed9c5adff432c
DTSTAMP:20260425T104404Z
SUMMARY:Fundur 4. mars 2026
DESCRIPTION:Fyrirlesari(ar): Fundur nr. 966 frá upphafi en 21. á starfsá
 rinu Loftur Már Sigurðsson\nsá um skemmtilegan fund 4. mars. Gestir vor
 u Kristín\nMagnúsdóttir og Fanney Þórsdóttir\, sjálfboðaliðar sem
  hafa sinnt Frískapnum\nokkar\, komið með mat og þrifið skápinn regl
 ulega. Kristín sagði frá störfum\nsínum fyrir Hjálræðisherinn en h
 ún sér um frískápinn þeirra sem staðsettur er\nhjá þeim. Hún bent
 i á nauðsyn þess að skápurinn snéri að gangstéttinni því hún\nk
 emur reglulega á bíl með mjólk og annan varning. Hún mælti með að 
 koma fyrir\nlímmiða með aðvörun vegna myndavélar og er ritari að at
 huga það. Hugmynd kom\nfram um hvort Hjálpræðisherinn væri til í a
 ð sjá um myndavélaeftirlit fyrir\nokkur. Margt var rætt og mjög gagnl
 egt. Þeim var þakkað fyrir góð störf. Góðar fréttir:\nElísabet 
 verður fjarverandi um tíma því hún mun leysa af í Neskaupstaðarpres
 takalli.\nBergljót upplýsti að 9.\napríl munum við heimsækja klúbbi
 nn í Keflavík.Ásta kynnti haustferina\ntil Vilnius\, höfuðborgar Lith
 áens. 600 - 750 þúsund íbúar. Gamla borgin er á\nUnesco lista. Þyki
 r ein best varðveitta miðaldaborg Evrópu og sú stærsta norðan\nAlpan
 na. Sérstakur arkitektúr. Ferðaáætlun: Föstudagur\n4. september. Flo
 gið með Wizzair. Brottflug kl. 17:45. Lending kl. 00:40. Laugardagur:\nB
 æjarrölt með leiðsögn. Sunnudagur: ½ dags ferð til Trakai. Mánudag
 ur: 7. sept.\nBrottflug kl.15:25. Lending 16:45 Í sínum 3 mínútum\nsa
 gði Þórunn Kristjánsdóttir frá skemmtilegri siglingu frá Tenerife s
 em hún fór\n nýlega í með viðkomu á nokkrum eyjum og\nþar af eyju
 m þar sem fáir ferðamenn koma. Var það skemmtileg og sérstök\nuppli
 fun.  Loftur Már Sigurðsson\nsá um fundinn og flutti sjálfur skemmtil
 egt og fróðlegt erindi sem hann nefndi:                
                                      
    "Samsæriskenningar.Red pill\,\nblue pill\, black pill.Hvað er\nþa
 ð ?"Þar kom fram að samsæriskenningar þurfa\nað vera sannar\, umræ
 ðan um þær byrjaði af alvöru 1964 í USA en hún fjölgaði\nmjög ef
 tir 2010. Verið er að spyrja réttmætra spurninga. Stutt er í skýring
 ar\neins og um Deep state eða Djúpríkið. Blac pill eftir 2015.Samsæri
 skenningar eru þess eðlis að\nþegar upp er staðið veit enginn neitt 
 um hvað var sagt eða ekki sagt\, hvað var\nsatt eða logið né heldur 
 hvað snéri upp eða niður. Eitt er víst að Loftur mætti\nekki þó h
 ann væri þarna því hann hélt öðru fram\, eða ekki. Frábær fundur
 . Á fundinn mættu  15 félagar eða 83% Geir Agnar\nGuðsteinsson sér
  um næsta fund 11. mars en Eiríkur Arnarson um þrjár mínútur.\n\n\n\
 n\n\n\n\n\n\n\n\n\n\n\n\n\n\n\n\n\n\n\n\n\n\n\n\n\n\n\n\n\n\n\n\n\n\nFunda
 rritari: Björn\nViggósson
URL:https://rvkgrafarvogur.rotary1360.is/is/agenda/show/7278
DTSTART;TZID=Iceland:20260304T181500
DTEND;TZID=Iceland:20260304T193000
LOCATION:Borgir félagsmiðstöð\, Spöngin 43\, 112 Reykjavík\, Ísland
CATEGORIES:Rotary
END:VEVENT
BEGIN:VTIMEZONE
TZID:Iceland
BEGIN:STANDARD
DTSTART:20260304T181500
TZNAME:GMT
TZOFFSETTO:+0000
TZOFFSETFROM:+0000
END:STANDARD
END:VTIMEZONE
END:VCALENDAR
