BEGIN:VCALENDAR
PRODID:-//eluceo/ical//2.0/EN
VERSION:2.0
CALSCALE:GREGORIAN
BEGIN:VEVENT
UID:29a9a30592a7547c9c22484f60ff50a6
DTSTAMP:20260423T084305Z
SUMMARY:Fundur 11. mars
DESCRIPTION:
URL:https://rvkgrafarvogur.rotary1360.is/is/agenda/show/7299
DTSTART;TZID=Iceland:20260306T181500
DTEND;TZID=Iceland:20260306T193000
LOCATION:Borgir félagsmiðstöð\, Spöngin 43\, 112 Reykjavík\, Ísland
CATEGORIES:Rotary
END:VEVENT
BEGIN:VTIMEZONE
TZID:Iceland
BEGIN:STANDARD
DTSTART:20260306T181500
TZNAME:GMT
TZOFFSETTO:+0000
TZOFFSETFROM:+0000
END:STANDARD
END:VTIMEZONE
END:VCALENDAR
