BEGIN:VCALENDAR
PRODID:-//eluceo/ical//2.0/EN
VERSION:2.0
CALSCALE:GREGORIAN
BEGIN:VEVENT
UID:b0d4114b036d3bea302b39ef1d2c6447
DTSTAMP:20260423T083726Z
SUMMARY:Fundur 18. mars
DESCRIPTION:Fyrirlesari(ar):   Ragnar Guðgeirsson  
URL:https://rvkgrafarvogur.rotary1360.is/is/agenda/show/7315
DTSTART;TZID=Iceland:20260318T181500
DTEND;TZID=Iceland:20260318T193000
LOCATION:Borgir félagsmiðstöð\, Spöngin 43\, 112 Reykjavík\, Ísland
CATEGORIES:Rotary
END:VEVENT
BEGIN:VTIMEZONE
TZID:Iceland
BEGIN:STANDARD
DTSTART:20260318T181500
TZNAME:GMT
TZOFFSETTO:+0000
TZOFFSETFROM:+0000
END:STANDARD
END:VTIMEZONE
END:VCALENDAR
